BEGIN:VCALENDAR
VERSION:2.0
PRODID:-//Upside SportsPlex - ECPv6.15.20//NONSGML v1.0//EN
CALSCALE:GREGORIAN
METHOD:PUBLISH
X-WR-CALNAME:Upside SportsPlex
X-ORIGINAL-URL:https://www.upsidesportsplex.com
X-WR-CALDESC:Events for Upside SportsPlex
REFRESH-INTERVAL;VALUE=DURATION:PT1H
X-Robots-Tag:noindex
X-PUBLISHED-TTL:PT1H
BEGIN:VTIMEZONE
TZID:America/Chicago
BEGIN:DAYLIGHT
TZOFFSETFROM:-0600
TZOFFSETTO:-0500
TZNAME:CDT
DTSTART:20210314T080000
END:DAYLIGHT
BEGIN:STANDARD
TZOFFSETFROM:-0500
TZOFFSETTO:-0600
TZNAME:CST
DTSTART:20211107T070000
END:STANDARD
BEGIN:DAYLIGHT
TZOFFSETFROM:-0600
TZOFFSETTO:-0500
TZNAME:CDT
DTSTART:20220313T080000
END:DAYLIGHT
BEGIN:STANDARD
TZOFFSETFROM:-0500
TZOFFSETTO:-0600
TZNAME:CST
DTSTART:20221106T070000
END:STANDARD
BEGIN:DAYLIGHT
TZOFFSETFROM:-0600
TZOFFSETTO:-0500
TZNAME:CDT
DTSTART:20230312T080000
END:DAYLIGHT
BEGIN:STANDARD
TZOFFSETFROM:-0500
TZOFFSETTO:-0600
TZNAME:CST
DTSTART:20231105T070000
END:STANDARD
BEGIN:DAYLIGHT
TZOFFSETFROM:-0600
TZOFFSETTO:-0500
TZNAME:CDT
DTSTART:20240310T080000
END:DAYLIGHT
BEGIN:STANDARD
TZOFFSETFROM:-0500
TZOFFSETTO:-0600
TZNAME:CST
DTSTART:20241103T070000
END:STANDARD
BEGIN:DAYLIGHT
TZOFFSETFROM:-0600
TZOFFSETTO:-0500
TZNAME:CDT
DTSTART:20250309T080000
END:DAYLIGHT
BEGIN:STANDARD
TZOFFSETFROM:-0500
TZOFFSETTO:-0600
TZNAME:CST
DTSTART:20251102T070000
END:STANDARD
END:VTIMEZONE
BEGIN:VEVENT
DTSTART;VALUE=DATE:20240715
DTEND;VALUE=DATE:20240720
DTSTAMP:20260422T045022
CREATED:20240508T165609Z
LAST-MODIFIED:20240508T165721Z
UID:7053-1721001600-1721433599@www.upsidesportsplex.com
SUMMARY:Nike Basketball Camp 2024 - Session II
DESCRIPTION:The Nike Basketball Camp is coming back to Upside this summer! Sign your athlete up for the July session to improve their skills in a fun environment! \nSession II:\nJuly 15-18: Complete Skills\nJuly 19: Competition Friday \nAges 5-16\nAll genders \nCost:\n$395 – Complete Skills\n$95 – Competition Friday \nLunch will not be provided so pack a sack lunch and snack for each day. \nFor more information and to register\, click here.
URL:https://www.upsidesportsplex.com/event/nike-basketball-camp-2024-session-ii/
LOCATION:Upside SportsPlex
END:VEVENT
BEGIN:VEVENT
DTSTART;VALUE=DATE:20240610
DTEND;VALUE=DATE:20240615
DTSTAMP:20260422T045022
CREATED:20240508T165556Z
LAST-MODIFIED:20240508T165556Z
UID:7051-1717977600-1718409599@www.upsidesportsplex.com
SUMMARY:Nike Basketball Camp 2024 - Session I
DESCRIPTION:The Nike Basketball Camp is coming back to Upside this summer! Sign your athlete up for one or both sessions to improve their skills in a fun environment! \nSession I:\nJune 10-13: Complete Skills\nJune 14: Competition Friday \nSession II:\nJuly 15-18: Complete Skills\nJuly 19: Competition Friday \nAges 5-16\nAll genders \nCost:\n$395 – Complete Skills\n$95 – Competition Friday \nLunch will not be provided so pack a sack lunch and snack for each day. \nFor more information and to register\, click here.
URL:https://www.upsidesportsplex.com/event/nike-basketball-camp-2024-session-i/
LOCATION:Upside SportsPlex
END:VEVENT
BEGIN:VEVENT
DTSTART;VALUE=DATE:20231216
DTEND;VALUE=DATE:20231218
DTSTAMP:20260422T045022
CREATED:20231031T205527Z
LAST-MODIFIED:20231031T205527Z
UID:6800-1702684800-1702857599@www.upsidesportsplex.com
SUMMARY:PHBL Winter Holiday Basketball & Volleyball Tournament
DESCRIPTION:PHBL is hosting the Winter Holiday Basketball & Volleyball Tournament at Upside! \nDec. 16-17 \nBasketball:\nRegistration fee: $450\nEarly-bird fee: $400\n$100 non-refundable deposit\n3 game guarantee\nTrophies\, shirt\, MVP award\, cash prize\nDivisions:\n10U Coed\, 12U Coed\, 14U\, 5’10 Asian\, 6’2 Asian\, 33 All Filipino + 2 Asian\, 40 Asian\, 48 All Filipino \nVolleyball:\n$400\nDivisions:\nNon Comp\nCoed Asian + 2 Non-Asian\nComp\nCoed Filipino + 2 Asian \nFor more information and to register\, contact Ricky Minon at 956-245-7091.
URL:https://www.upsidesportsplex.com/event/phbl-winter-tournament-2/
LOCATION:Upside SportsPlex
END:VEVENT
BEGIN:VEVENT
DTSTART;TZID=America/Chicago:20231215T090000
DTEND;TZID=America/Chicago:20231215T120000
DTSTAMP:20260422T045022
CREATED:20231020T171530Z
LAST-MODIFIED:20231020T171603Z
UID:6737-1702630800-1702641600@www.upsidesportsplex.com
SUMMARY:Animal Shelter Pickleball Social
DESCRIPTION:Greater Houston Pickleball is hosting a social benefitting the League City Animal Shelter & Galveston County Animal Shelter! Come hang out\, play some pickleball\, and support local organizations! We will be taking donations of dog food\, cat food\, and blankets. \nDec. 15\n9 a.m. to Noon \nTo get in\, bring blankets or food for the dogs and cats at the shelters! \nThere will also be a potluck\, so bring a dish to share.
URL:https://www.upsidesportsplex.com/event/animal-shelter-pickleball-social/
LOCATION:Upside SportsPlex
END:VEVENT
BEGIN:VEVENT
DTSTART;TZID=America/Chicago:20231031T090000
DTEND;TZID=America/Chicago:20231031T120000
DTSTAMP:20260422T045022
CREATED:20231004T172754Z
LAST-MODIFIED:20231013T153603Z
UID:6725-1698742800-1698753600@www.upsidesportsplex.com
SUMMARY:Mary Carroll's Birthday Celebration
DESCRIPTION:Mary Carroll is turning 80! To celebrate\, we’re hosting a birthday pickleball celebration at Upside! \nOct. 31\n9 a.m. to Noon \nThere will be a potluck\, so bring a dish to share. Greater Houston Pickleball will also be hosting a Halloween costume contest! Prizes will be given out to the 1st\, 2nd\, and 3rd place winners.
URL:https://www.upsidesportsplex.com/event/mary-carroll-birthday-celebration/
LOCATION:Upside SportsPlex
END:VEVENT
BEGIN:VEVENT
DTSTART;VALUE=DATE:20231028
DTEND;VALUE=DATE:20231030
DTSTAMP:20260422T045022
CREATED:20230726T175104Z
LAST-MODIFIED:20230726T175104Z
UID:6509-1698451200-1698623999@www.upsidesportsplex.com
SUMMARY:PHBL Invitational Basketball & Volleyball Tournament
DESCRIPTION:PHBL presents the Invitational Basketball & Volleyball tournament this fall! \nOct. 28-29\nStarts at 8 a.m. \nRegistration Fee:\nBasketball: $425\nVolleyball: $350 \nBasketball Divisions:\n5’10 Asian\n6’2 Asian\nAsian + 2 Non-Asian\nNon-competitive\nMens\nWomens\nCo-ed \nVolleyball Divisions:\nAll Filipino + 2 Asian\nCompetitive\nMens\nWomens\nCo-ed\n \n3 game guarantee \nChampions Trophy \nFor more information and to register\, contact Ricky at 956-245-7091\, Regi at 281-630-5060\, or Tin Tin at 817-403-3656. \n 
URL:https://www.upsidesportsplex.com/event/phbl-invitational-basketball-volleyball-tournament/
LOCATION:Upside SportsPlex
END:VEVENT
BEGIN:VEVENT
DTSTART;TZID=America/Chicago:20230915T090000
DTEND;TZID=America/Chicago:20230915T120000
DTSTAMP:20260422T045022
CREATED:20230817T193253Z
LAST-MODIFIED:20230817T193253Z
UID:6608-1694768400-1694779200@www.upsidesportsplex.com
SUMMARY:Upside vs Lake Jackson Recreation Center Pickleball Challenge
DESCRIPTION:Join us for the Upside SportsPlex vs. Lake Jackson Recreation Center Pickleball Challenge! \nFriday\, Sept. 15\n9 a.m. to Noon\nSign in: 8:45-9 a.m. \nFormat: Upside teams vs. Lake Jackson teams\nEach individual match would be best 2 out of 3 (11 points by 2)
URL:https://www.upsidesportsplex.com/event/pickleball-challenge/
LOCATION:Upside SportsPlex
END:VEVENT
BEGIN:VEVENT
DTSTART;TZID=America/Chicago:20230901T180000
DTEND;TZID=America/Chicago:20230901T200000
DTSTAMP:20260422T045022
CREATED:20230808T190250Z
LAST-MODIFIED:20230811T202018Z
UID:6514-1693591200-1693598400@www.upsidesportsplex.com
SUMMARY:Kings Basketball Tryouts
DESCRIPTION:Kings Basketball AAU is hosting tryouts at Upside! \nSept. 1\nSign in: 6 p.m.\nTryouts: 6:30-8 p.m. \nTry-out fee: $20 \nRegister for tryouts here. For more information\, call 832-872-2112 or email kingsbasketballcorp@gmail.com.
URL:https://www.upsidesportsplex.com/event/kings-basketball-tryouts/
LOCATION:Upside SportsPlex
END:VEVENT
BEGIN:VEVENT
DTSTART;VALUE=DATE:20230820
DTEND;VALUE=DATE:20230821
DTSTAMP:20260422T045022
CREATED:20230717T230123Z
LAST-MODIFIED:20230717T230123Z
UID:6495-1692489600-1692575999@www.upsidesportsplex.com
SUMMARY:Thunder Basketball Tryouts
DESCRIPTION:Thunder Basketball is hosting tryouts for Fall 2023! \nSunday\, Aug. 20 \nGirls:\n2030/2031 – 12 to 1 p.m.\n2028/2029 – 1 to 2 p.m. \nBoys:\n2031 – 2 to 3 p.m.\n2030 – 3:30 to 5 p.m.\n2029 – 5:30 to 7 p.m. \nFor more information contact matt@texasthunderhoops.com or 832-891-5692. Register for tryouts here.
URL:https://www.upsidesportsplex.com/event/thunder-basketball-tryouts/
LOCATION:Upside SportsPlex
END:VEVENT
BEGIN:VEVENT
DTSTART;VALUE=DATE:20230724
DTEND;VALUE=DATE:20230726
DTSTAMP:20260422T045022
CREATED:20230703T162202Z
LAST-MODIFIED:20230703T162202Z
UID:6475-1690156800-1690329599@www.upsidesportsplex.com
SUMMARY:Summer Skills Camp
DESCRIPTION:Work on your skills with Elite Basketball Training and coach Aaron Miller this summer! \nJuly 24-25\n2-5 p.m. \nBoys & Girls\nAges 11 & up \nFor more information\, contact Aaron Miller at 281-682-2400. To register\, fill out this form. Pay upfront to secure your athlete’s spot. \n 
URL:https://www.upsidesportsplex.com/event/summer-skills-camp/
LOCATION:Upside SportsPlex
END:VEVENT
BEGIN:VEVENT
DTSTART;VALUE=DATE:20230717
DTEND;VALUE=DATE:20230722
DTSTAMP:20260422T045022
CREATED:20230327T165247Z
LAST-MODIFIED:20230327T165432Z
UID:6318-1689552000-1689983999@www.upsidesportsplex.com
SUMMARY:Nike Basketball Camp - July
DESCRIPTION:Train with Nike at Upside SportsPlex! \nJuly 17-21  \nCoed ages 5-16 \nHighlights: \n\nInstruction from the Ultimate Champions Staff\nLow camper to coach ratio to offer the most personalized instruction in a small-group setting\nFocus on fundamental development\, shooting technique\, team play tactics\, and basketball IQ\nReceive a Nike Basketball Camp t-shirt and other awesome prizes!\n\nFor questions\, call 1-800-NIKE-CAMP. To register visit www.ussportscamps.com/basketball/nike/nike-basketball-camp-htx-alvin.
URL:https://www.upsidesportsplex.com/event/nike-basketball-camp-july-2023/
LOCATION:Upside SportsPlex
END:VEVENT
BEGIN:VEVENT
DTSTART;VALUE=DATE:20230710
DTEND;VALUE=DATE:20230714
DTSTAMP:20260422T045022
CREATED:20230608T192651Z
LAST-MODIFIED:20230608T192651Z
UID:6443-1688947200-1689292799@www.upsidesportsplex.com
SUMMARY:Girls Hoopin on Hardwood Camp
DESCRIPTION:The Hooping on Hardwood Girls Basketball Camp is dedicated to teaching the fundamentals of basketball to girls 4th grade through High School in a safe and enjoyable environment through stations\, drills\, games\, and competitions designed for kids of all skill levels. With a professional staff of experienced coaches and players\, this event provides a great opportunity for kids to learn from coaches and players who have had success both on and off the court. \nJuly 10-13 \nCheck-in: 11:30 a.m.\nCamp: 12-4 p.m. \nCamp fee: $130 \nTo register visit www.houstonsportsaccess.com. For more information contact Mark Weber at 713-834-2765 or Sam Cortez at 832-788-9396.
URL:https://www.upsidesportsplex.com/event/girls-hoopin-on-hardwood-camp/
LOCATION:Upside SportsPlex
END:VEVENT
BEGIN:VEVENT
DTSTART;VALUE=DATE:20230708
DTEND;VALUE=DATE:20230710
DTSTAMP:20260422T045022
CREATED:20230612T190516Z
LAST-MODIFIED:20230612T190516Z
UID:6464-1688774400-1688947199@www.upsidesportsplex.com
SUMMARY:GSA King & Queen of the South Crowning
DESCRIPTION:Ankle Breaker Events presents the GSA King & Queen of the South Crowning! \nJuly 8-9 \n1st through 12th grade teams \n$250 per team\nMulti-team discounts available  \nTo register go to www.iamathletics.org. For more information\, contact Coach James at 281-703-0880 or email info@scholaraoa.org.
URL:https://www.upsidesportsplex.com/event/gsa-king-queen-of-the-south-crowning-2/
LOCATION:Upside SportsPlex
END:VEVENT
BEGIN:VEVENT
DTSTART;VALUE=DATE:20230703
DTEND;VALUE=DATE:20230708
DTSTAMP:20260422T045022
CREATED:20230214T183027Z
LAST-MODIFIED:20230214T183052Z
UID:6264-1688342400-1688774399@www.upsidesportsplex.com
SUMMARY:Be Someone Sports x Coach Logic Camp Week 4
DESCRIPTION:Be Someone Sports and Coach Logic Basketball Camps are partnering to host youth summer basketball camps! \nBoys & Girls\nAges 5-15 \nCamps:\nJuly 3-7 \n9 a.m. to 3 p.m. each day \n$250 per person \nFor more information contact administration@coachlogiccamps.com or call 832-657-9151. To register visit coachlogiccamps.com. \nWin a free week of camp by following @CoachLogicCamps on Instagram. Each week one follower will be selected to win a free week of camp!
URL:https://www.upsidesportsplex.com/event/coach-logic-camp-4/
LOCATION:Upside SportsPlex
END:VEVENT
BEGIN:VEVENT
DTSTART;VALUE=DATE:20230626
DTEND;VALUE=DATE:20230701
DTSTAMP:20260422T045022
CREATED:20230214T182956Z
LAST-MODIFIED:20230214T183017Z
UID:6262-1687737600-1688169599@www.upsidesportsplex.com
SUMMARY:Be Someone Sports x Coach Logic Camp Week 3
DESCRIPTION:Be Someone Sports and Coach Logic Basketball Camps are partnering to host youth summer basketball camps! \nBoys & Girls\nAges 5-15 \nCamps:\nJune 26-30\nJuly 3-7 \n9 a.m. to 3 p.m. each day \n$250 per person \nFor more information contact administration@coachlogiccamps.com or call 832-657-9151. To register visit coachlogiccamps.com. \nWin a free week of camp by following @CoachLogicCamps on Instagram. Each week one follower will be selected to win a free week of camp!
URL:https://www.upsidesportsplex.com/event/coach-logic-camp-3/
LOCATION:Upside SportsPlex
END:VEVENT
BEGIN:VEVENT
DTSTART;TZID=America/Chicago:20230624T090000
DTEND;TZID=America/Chicago:20230624T140000
DTSTAMP:20260422T045022
CREATED:20230612T185233Z
LAST-MODIFIED:20230612T185233Z
UID:6462-1687597200-1687615200@www.upsidesportsplex.com
SUMMARY:Upside SportsPlex Pickleball Fundraiser
DESCRIPTION:Join Upside SportsPlex for a Pickleball Fundraiser benefiting the Alvin Community Food Pantry! The Alvin Community Food Pantry is a 501c3 nonprofit that’s contracted with the Houston Food Bank. They feed 285 families each week and are in dire need of canned foods. Come out and help support our community! \nJune 24\n9 a.m. to 2 p.m. \nThere will be 9 courts open for all levels of play! \nEntry fee: non-perishable or canned food item\nAll proceeds will go directly to the Alvin Community Food Pantry \n 
URL:https://www.upsidesportsplex.com/event/pickleball-fundraiser/
LOCATION:Upside SportsPlex
END:VEVENT
BEGIN:VEVENT
DTSTART;VALUE=DATE:20230619
DTEND;VALUE=DATE:20230624
DTSTAMP:20260422T045022
CREATED:20230214T182908Z
LAST-MODIFIED:20230214T182949Z
UID:6260-1687132800-1687564799@www.upsidesportsplex.com
SUMMARY:Be Someone Sports x Coach Logic Camp Week 2
DESCRIPTION:Be Someone Sports and Coach Logic Basketball Camps are partnering to host youth summer basketball camps! \nBoys & Girls\nAges 5-15 \nCamps:\nJune 19-23\nJune 26-30\nJuly 3-7 \n9 a.m. to 3 p.m. each day \n$250 per person \nFor more information contact administration@coachlogiccamps.com or call 832-657-9151. To register visit coachlogiccamps.com. \nWin a free week of camp by following @CoachLogicCamps on Instagram. Each week one follower will be selected to win a free week of camp!
URL:https://www.upsidesportsplex.com/event/coach-logic-camp-2/
LOCATION:Upside SportsPlex
END:VEVENT
BEGIN:VEVENT
DTSTART;VALUE=DATE:20230612
DTEND;VALUE=DATE:20230617
DTSTAMP:20260422T045022
CREATED:20230214T182846Z
LAST-MODIFIED:20230214T182900Z
UID:6258-1686528000-1686959999@www.upsidesportsplex.com
SUMMARY:Be Someone Sports x Coach Logic Camp Week 1
DESCRIPTION:Be Someone Sports and Coach Logic Basketball Camps are partnering to host youth summer basketball camps! \nBoys & Girls\nAges 5-15 \nCamps:\nJune 12-16\nJune 19-23\nJune 26-30\nJuly 3-7 \n9 a.m. to 3 p.m. each day \n$250 per person \nFor more information contact administration@coachlogiccamps.com or call 832-657-9151. To register visit coachlogiccamps.com. \nWin a free week of camp by following @CoachLogicCamps on Instagram. Each week one follower will be selected to win a free week of camp!
URL:https://www.upsidesportsplex.com/event/coach-logic-camp-1/
LOCATION:Upside SportsPlex
END:VEVENT
BEGIN:VEVENT
DTSTART;VALUE=DATE:20230605
DTEND;VALUE=DATE:20230610
DTSTAMP:20260422T045022
CREATED:20230327T165129Z
LAST-MODIFIED:20230327T165129Z
UID:6316-1685923200-1686355199@www.upsidesportsplex.com
SUMMARY:Nike Basketball Camp - June
DESCRIPTION:Train with Nike at Upside SportsPlex! \nJune 5-9 \nCoed ages 5-16 \nHighlights: \n\nInstruction from the Ultimate Champions Staff\nLow camper to coach ratio to offer the most personalized instruction in a small-group setting\nFocus on fundamental development\, shooting technique\, team play tactics\, and basketball IQ\nReceive a Nike Basketball Camp t-shirt and other awesome prizes!\n\nFor questions\, call 1-800-NIKE-CAMP. To register visit www.ussportscamps.com/basketball/nike/nike-basketball-camp-htx-alvin.
URL:https://www.upsidesportsplex.com/event/nike-basketball-camp-june-2023/
LOCATION:Upside SportsPlex
END:VEVENT
BEGIN:VEVENT
DTSTART;VALUE=DATE:20230529
DTEND;VALUE=DATE:20230602
DTSTAMP:20260422T045022
CREATED:20230327T170316Z
LAST-MODIFIED:20230504T170036Z
UID:6321-1685318400-1685663999@www.upsidesportsplex.com
SUMMARY:D13 Norl Basketball Camp
DESCRIPTION:Have your young athlete work on their skills with Daniel Norl! He’s a former DI athlete and currently plays professionally overseas. Norl was a 2014 finalist for Tennessee Mr. Basketball\, earned all-state\, region\, and all-district honors and was a 4-year letter winner at Kenwood High School in Tennessee. \nMay 29 – June 1\n9 a.m. to 3 p.m. \n2nd-8th Grade boys & girls  \nCost:\n$160 before May 25\n$175 after May 25 \nEach camper gets a basketball and camp t-shirt \nFor more information\, contact 501-307-3564. Register at ccyhoops.com.
URL:https://www.upsidesportsplex.com/event/d13-norl-basketball-camp/
END:VEVENT
BEGIN:VEVENT
DTSTART;TZID=America/Chicago:20230323T090000
DTEND;TZID=America/Chicago:20230323T120000
DTSTAMP:20260422T045022
CREATED:20230301T220231Z
LAST-MODIFIED:20230301T220231Z
UID:6275-1679562000-1679572800@www.upsidesportsplex.com
SUMMARY:GHP Social
DESCRIPTION:Join Greater Houston Pickleball for a social at Upside! \nMarch 23\n9 a.m. to noon \n9 courts will be available for play – split into beginner\, intermediate\, and advanced \nThere will be Chick-Fil-A for food as well as a potluck! \n4 door prizes will be given out – 2 gift cards and 2 one-month memberships for Upside SportsPlex \nHosted by Greater Houston Pickleball Ambassador Shay Alhalaby. For more information email shayalhalaby@icloud.com.
URL:https://www.upsidesportsplex.com/event/ghp-social/
LOCATION:Upside SportsPlex
END:VEVENT
BEGIN:VEVENT
DTSTART;TZID=America/Chicago:20230205T130000
DTEND;TZID=America/Chicago:20230205T150000
DTSTAMP:20260422T045022
CREATED:20221229T211525Z
LAST-MODIFIED:20221229T211604Z
UID:6131-1675602000-1675609200@www.upsidesportsplex.com
SUMMARY:Texas Thunder Spring 2023 Tryouts
DESCRIPTION:Bring your athlete to tryout for Texas Thunder! For 5th grade boys (Class of 2030) \nSunday\, Feb. 5\n1-3 p.m. \n5th grade – Class of 2030 \nFor more information email Matt@TexasThunderHoops.com
URL:https://www.upsidesportsplex.com/event/texas-thunder-spring-2023-tryouts/
LOCATION:Upside SportsPlex
END:VEVENT
BEGIN:VEVENT
DTSTART;VALUE=DATE:20221217
DTEND;VALUE=DATE:20221219
DTSTAMP:20260422T045022
CREATED:20221108T202926Z
LAST-MODIFIED:20221108T203014Z
UID:6048-1671235200-1671407999@www.upsidesportsplex.com
SUMMARY:December Basketball Tournament
DESCRIPTION:Join PHBL for the December Basketball Tournament at Upside! \nDec. 17-18 \n$400 registration fee \nDivisions: \n\n10U Coed Open\n12U Coed Open\n14U Boys Open\n16U Boys Open\n5’7 Asian/Latino Coed\n6ft Asian\n6’3ft Asian/Latino\n40 & Up Asian + 2 Latino players\n45 & Up Asian/Latino\n50 & Up Asian/Latino\n\nChampions trophy\nChampions medals\nChampions hats\nRunner-up medals\nMVP trophy\nPlayer of the Game trophy \nFor more info and to register call 956-245-7091 or email philhoiston@gmail.com.
URL:https://www.upsidesportsplex.com/event/december-basketball-tournament/
LOCATION:Upside SportsPlex
END:VEVENT
BEGIN:VEVENT
DTSTART;TZID=America/Chicago:20221212T090000
DTEND;TZID=America/Chicago:20221212T120000
DTSTAMP:20260422T045022
CREATED:20221121T192057Z
LAST-MODIFIED:20221121T230650Z
UID:6091-1670835600-1670846400@www.upsidesportsplex.com
SUMMARY:Christmas Social
DESCRIPTION:Join Greater Houston Pickleball for their Christmas Social at Upside SportsPlex! \nMonday\, Dec. 12\n9 a.m. to Noon \nHost: Shay Alhalaby – Greater Houston Pickleball Ambassador \nRefreshments: Bring your favorite dish to share! \nThree gyms will be divided into beginner\, intermediate\, and advanced play. Each gym will have three courts. \nEntry fee: Bring an unwrapped gift for the toy drive for the Blue Santa Program in Alvin\, supporting Alvin ISD students in need. \nPrizes will be raffled out during the event as well!
URL:https://www.upsidesportsplex.com/event/christmas-social/
LOCATION:Upside SportsPlex
END:VEVENT
BEGIN:VEVENT
DTSTART;VALUE=DATE:20221112
DTEND;VALUE=DATE:20221114
DTSTAMP:20260422T045022
CREATED:20220901T203704Z
LAST-MODIFIED:20220901T203704Z
UID:5907-1668211200-1668383999@www.upsidesportsplex.com
SUMMARY:Thanksgiving Classic Basketball Tournament
DESCRIPTION:PHBL presents the Thanksgiving Classic Basketball Tournament! \nNov. 12-13 \nDivisions:\n10U Coed Open\n12U Coed Open\n14U Girls Open\n14U Boys Open\n16 Boys Open\n18U Boys Asian/Latino\n5’7 Asian/Latino\n6FT Asian\n6’2 Asian/Latino\n45 & Up Asian/Latino\n50 & Up Asian/Latino\n \n$400 registration fee \nChampions trophy\, Champions medal\, Champions hat\, Runner-up medals\, MVP trophy\, and Player of the Game award will be given out \nFor more information\, call 956-245-7091 or email philhoiston@gmail.com.
URL:https://www.upsidesportsplex.com/event/thanksgiving-classic/
LOCATION:Upside SportsPlex
END:VEVENT
BEGIN:VEVENT
DTSTART;VALUE=DATE:20220820
DTEND;VALUE=DATE:20220822
DTSTAMP:20260422T045022
CREATED:20220613T174052Z
LAST-MODIFIED:20220613T174052Z
UID:5755-1660953600-1661126399@www.upsidesportsplex.com
SUMMARY:Summer Invitational Basketball & Volleyball Tournament
DESCRIPTION:PHBL is bringing the Summer Invitational Basketball & Volleyball Tournament to Upside! \nAugust 20-21 \nRegistration Fees:\nBasketball: $400\nVolleyball: $350 \nDivisions: \n\n10U open\n12U open\n14U open\n16U open\n19U All Asian\nOpen Elite\n5’7 All Asian\n6FT U All Asian\n40 & Up Asian + 2 Latino Players\n45 & Up Fil/Latino\n50 & Up Fil/Latino\nVolleyball: All Asian Co-Ed\n\n3 games guaranteed \nChampions trophy\, championship rings\, MVP medals \nNo gate fee \nFor more information and to register\, call 956-245-7091 or email philhoiston@gmail.com.
URL:https://www.upsidesportsplex.com/event/summer-invitational-bball-vball/
LOCATION:Upside SportsPlex
END:VEVENT
BEGIN:VEVENT
DTSTART;VALUE=DATE:20220813
DTEND;VALUE=DATE:20220815
DTSTAMP:20260422T045022
CREATED:20220301T212233Z
LAST-MODIFIED:20220314T213022Z
UID:4772-1660348800-1660521599@www.upsidesportsplex.com
SUMMARY:GSA Battle of the Elite
DESCRIPTION:Wrap up the summer season with the GSA Battle of the Elite tournament! \nAugust 13-14 \nBoys & Girls 7U-17U \nCost: $200 per team \n3 games guaranteed\n1st and 2nd place trophies and medals \nFor more information and to register\, contact Coach James at 281-703-0880 or visit anklebreakerevents.com.
URL:https://www.upsidesportsplex.com/event/gsa-battle-of-the-elite/
LOCATION:Upside SportsPlex
END:VEVENT
BEGIN:VEVENT
DTSTART;TZID=America/Chicago:20220805T123000
DTEND;TZID=America/Chicago:20220805T140000
DTSTAMP:20260422T045022
CREATED:20220314T212131Z
LAST-MODIFIED:20220314T212154Z
UID:5068-1659702600-1659708000@www.upsidesportsplex.com
SUMMARY:Fritts Blitz Basketball Camp Boys Open Gym
DESCRIPTION:Looking for a Friday activity for your basketball player this summer? Send them to the Fritts Blitz Basketball Camp Boys Open Gym! Athletes will be separated by grade level and play 5-on-5 games. \nAugust 5\n12:30-2 p.m. \nCost: $200 for all 8 days\nSibling discout: 2 for $380\n \nDates:\nJune 17\, 24\nJuly 1\, 8\, 15\, 22\, 29\nAugust 5 \nOpen Gym is for boys going into Grades 6th\, 7th\, 8th and 9th as of Fall 2022. \nBoth courts are reserved so 8 teams can play at once. If numbers are low\, we combine groups but we try to keep each grade level separate. If you miss a Friday\, no big deal\, just come back the next Friday. We strive to have at least 15 boys from each grade level playing. Everyone gets tons of playing time and playing only makes you better. We do not have “pay-per-day” options. \n\n\n\n\n\n\nFor more info contact Josh Fritts at FrittsBlitzCamp@gmail.com
URL:https://www.upsidesportsplex.com/event/fritts-blitz-open-gym-aug5/
LOCATION:Upside SportsPlex
END:VEVENT
BEGIN:VEVENT
DTSTART;TZID=America/Chicago:20220729T123000
DTEND;TZID=America/Chicago:20220729T140000
DTSTAMP:20260422T045022
CREATED:20220314T212049Z
LAST-MODIFIED:20220314T212116Z
UID:5066-1659097800-1659103200@www.upsidesportsplex.com
SUMMARY:Fritts Blitz Basketball Camp Boys Open Gym
DESCRIPTION:Looking for a Friday activity for your basketball player this summer? Send them to the Fritts Blitz Basketball Camp Boys Open Gym! Athletes will be separated by grade level and play 5-on-5 games. \nJuly 29\n12:30-2 p.m. \nCost: $200 for all 8 days\nSibling discout: 2 for $380\n \nDates:\nJune 17\, 24\nJuly 1\, 8\, 15\, 22\, 29\nAugust 5 \nOpen Gym is for boys going into Grades 6th\, 7th\, 8th and 9th as of Fall 2022. \nBoth courts are reserved so 8 teams can play at once. If numbers are low\, we combine groups but we try to keep each grade level separate. If you miss a Friday\, no big deal\, just come back the next Friday. We strive to have at least 15 boys from each grade level playing. Everyone gets tons of playing time and playing only makes you better. We do not have “pay-per-day” options. \n\n\n\n\n\n\nFor more info contact Josh Fritts at FrittsBlitzCamp@gmail.com
URL:https://www.upsidesportsplex.com/event/fritts-blitz-open-gym-july29/
LOCATION:Upside SportsPlex
END:VEVENT
BEGIN:VEVENT
DTSTART;TZID=America/Chicago:20220722T123000
DTEND;TZID=America/Chicago:20220722T140000
DTSTAMP:20260422T045022
CREATED:20220314T211959Z
LAST-MODIFIED:20220314T212022Z
UID:5064-1658493000-1658498400@www.upsidesportsplex.com
SUMMARY:Fritts Blitz Basketball Camp Boys Open Gym
DESCRIPTION:Looking for a Friday activity for your basketball player this summer? Send them to the Fritts Blitz Basketball Camp Boys Open Gym! Athletes will be separated by grade level and play 5-on-5 games. \nJuly 22\n12:30-2 p.m. \nCost: $200 for all 8 days\nSibling discout: 2 for $380\n \nDates:\nJune 17\, 24\nJuly 1\, 8\, 15\, 22\, 29\nAugust 5 \nOpen Gym is for boys going into Grades 6th\, 7th\, 8th and 9th as of Fall 2022. \nBoth courts are reserved so 8 teams can play at once. If numbers are low\, we combine groups but we try to keep each grade level separate. If you miss a Friday\, no big deal\, just come back the next Friday. We strive to have at least 15 boys from each grade level playing. Everyone gets tons of playing time and playing only makes you better. We do not have “pay-per-day” options. \n\n\n\n\n\n\nFor more info contact Josh Fritts at FrittsBlitzCamp@gmail.com
URL:https://www.upsidesportsplex.com/event/fritts-blitz-open-gym-july22/
LOCATION:Upside SportsPlex
END:VEVENT
END:VCALENDAR